BEGIN:VCALENDAR
VERSION:2.0
PRODID:-//Visit Lake Oconee - ECPv6.15.16//NONSGML v1.0//EN
CALSCALE:GREGORIAN
METHOD:PUBLISH
X-WR-CALNAME:Visit Lake Oconee
X-ORIGINAL-URL:https://visitlakeoconee.com
X-WR-CALDESC:Events for Visit Lake Oconee
REFRESH-INTERVAL;VALUE=DURATION:PT1H
X-Robots-Tag:noindex
X-PUBLISHED-TTL:PT1H
BEGIN:VTIMEZONE
TZID:America/New_York
BEGIN:DAYLIGHT
TZOFFSETFROM:-0500
TZOFFSETTO:-0400
TZNAME:EDT
DTSTART:20210314T070000
END:DAYLIGHT
BEGIN:STANDARD
TZOFFSETFROM:-0400
TZOFFSETTO:-0500
TZNAME:EST
DTSTART:20211107T060000
END:STANDARD
BEGIN:DAYLIGHT
TZOFFSETFROM:-0500
TZOFFSETTO:-0400
TZNAME:EDT
DTSTART:20220313T070000
END:DAYLIGHT
BEGIN:STANDARD
TZOFFSETFROM:-0400
TZOFFSETTO:-0500
TZNAME:EST
DTSTART:20221106T060000
END:STANDARD
BEGIN:DAYLIGHT
TZOFFSETFROM:-0500
TZOFFSETTO:-0400
TZNAME:EDT
DTSTART:20230312T070000
END:DAYLIGHT
BEGIN:STANDARD
TZOFFSETFROM:-0400
TZOFFSETTO:-0500
TZNAME:EST
DTSTART:20231105T060000
END:STANDARD
END:VTIMEZONE
BEGIN:VEVENT
DTSTART;TZID=America/New_York:20220730T190000
DTEND;TZID=America/New_York:20220730T220000
DTSTAMP:20260422T063014
CREATED:20220720T171157Z
LAST-MODIFIED:20220720T171157Z
UID:2657-1659207600-1659218400@visitlakeoconee.com
SUMMARY:Christmas in July with Scott Deering & The Usual Suspects
DESCRIPTION:Ever wonder where Santa goes in July? Lake country\, of course! It’s Christmas in July with Scott Deering and the Usual Suspects\, benefitting Greene County Habitat for Humanity. Enjoy an evening of live music\, food\, and beverage at Oconee Brewing Company on Saturday July 30th from 7:00-10:00 pm. \nThe Burch Food Truck will be cooking a fine Christmas dinner perfect for Santa’s summer picnic and Oconee Brewing Company will be pouring summer brews and wine. Non-alcoholic beverages are available as well. Food and beverage are a la carte and not included in the price of admission. \nAll ticket proceeds benefit Greene County Habitat for Humanity’s mission to create affordable housing options for Greene County residents. \nIf you cannot make the concert but would still like to make a donation\, follow this link: https://habitatgreene.charityproud.org/Donate/?cid=13315 \n\n\nFor questions\, please email karen@gchabitat.com (706) 478-9576
URL:https://visitlakeoconee.com/event/christmas-in-july-with-scott-deering-the-usual-suspects/
LOCATION:Oconee Brewing Company\, 202 N West St\, Greensboro\, GA\, 30642\, United States
CATEGORIES:Entertainment,Music
END:VEVENT
END:VCALENDAR