BEGIN:VCALENDAR
VERSION:2.0
PRODID:-//Visit Lake Oconee - ECPv6.15.16//NONSGML v1.0//EN
CALSCALE:GREGORIAN
METHOD:PUBLISH
X-WR-CALNAME:Visit Lake Oconee
X-ORIGINAL-URL:https://visitlakeoconee.com
X-WR-CALDESC:Events for Visit Lake Oconee
REFRESH-INTERVAL;VALUE=DURATION:PT1H
X-Robots-Tag:noindex
X-PUBLISHED-TTL:PT1H
BEGIN:VTIMEZONE
TZID:America/New_York
BEGIN:DAYLIGHT
TZOFFSETFROM:-0500
TZOFFSETTO:-0400
TZNAME:EDT
DTSTART:20250309T070000
END:DAYLIGHT
BEGIN:STANDARD
TZOFFSETFROM:-0400
TZOFFSETTO:-0500
TZNAME:EST
DTSTART:20251102T060000
END:STANDARD
BEGIN:DAYLIGHT
TZOFFSETFROM:-0500
TZOFFSETTO:-0400
TZNAME:EDT
DTSTART:20260308T070000
END:DAYLIGHT
BEGIN:STANDARD
TZOFFSETFROM:-0400
TZOFFSETTO:-0500
TZNAME:EST
DTSTART:20261101T060000
END:STANDARD
BEGIN:DAYLIGHT
TZOFFSETFROM:-0500
TZOFFSETTO:-0400
TZNAME:EDT
DTSTART:20270314T070000
END:DAYLIGHT
BEGIN:STANDARD
TZOFFSETFROM:-0400
TZOFFSETTO:-0500
TZNAME:EST
DTSTART:20271107T060000
END:STANDARD
END:VTIMEZONE
BEGIN:VEVENT
DTSTART;TZID=America/New_York:20260314T173000
DTEND;TZID=America/New_York:20260314T200000
DTSTAMP:20260423T051642
CREATED:20260126T175151Z
LAST-MODIFIED:20260126T175151Z
UID:4112-1773509400-1773518400@visitlakeoconee.com
SUMMARY:Honoring Our Heroes Annual Fundraiser to Support Wounded Veterans
DESCRIPTION:The first-ever Honoring Our Heroes Annual Fundraiser\, hosted by the Georgia Chapter of Safari Club International (SCI) and the Lake Oconee Elks Lodge #2849\, will be held Saturday\, March 14\, 2026\, at Briarpatch Farm in Eatonton\, Georgia. The evening is dedicated to honoring service\, raising support for wounded veterans\, and celebrating resilience through stories\, music\, and fellowship. The program will feature Mark Nutsch—Green Beret commander and the real-life inspiration behind the story portrayed in 12 Strong—as keynote speaker. Guests will also enjoy a live performance from Matt Rogers\, an award-winning Georgia-born songwriter and entertainer whose work includes the veteran-advocacy song “Camouflage.” Attendees will also hear from Retired U.S. Army Sgt. Mario Lopez—a wounded warrior\, Purple Heart recipient\, and accomplished artist—who shares his story of perseverance\, healing\, and hope. \nTime: Doors open at 5:30 PM\nLocation: Briarpatch Farm\, 725 Pea Ridge Road\, Eatonton\, GA 31024\nHighlights: Dinner & Fellowship • Raffles • Silent Auction • Live Auction
URL:https://visitlakeoconee.com/event/honoring-our-heroes-annual-fundraiser-to-support-wounded-veterans/
LOCATION:GA
CATEGORIES:Entertainment,Music
END:VEVENT
END:VCALENDAR