BEGIN:VCALENDAR
VERSION:2.0
PRODID:-//Visit Lake Oconee - ECPv6.15.16//NONSGML v1.0//EN
CALSCALE:GREGORIAN
METHOD:PUBLISH
X-WR-CALNAME:Visit Lake Oconee
X-ORIGINAL-URL:https://visitlakeoconee.com
X-WR-CALDESC:Events for Visit Lake Oconee
REFRESH-INTERVAL;VALUE=DURATION:PT1H
X-Robots-Tag:noindex
X-PUBLISHED-TTL:PT1H
BEGIN:VTIMEZONE
TZID:America/New_York
BEGIN:DAYLIGHT
TZOFFSETFROM:-0500
TZOFFSETTO:-0400
TZNAME:EDT
DTSTART:20240310T070000
END:DAYLIGHT
BEGIN:STANDARD
TZOFFSETFROM:-0400
TZOFFSETTO:-0500
TZNAME:EST
DTSTART:20241103T060000
END:STANDARD
BEGIN:DAYLIGHT
TZOFFSETFROM:-0500
TZOFFSETTO:-0400
TZNAME:EDT
DTSTART:20250309T070000
END:DAYLIGHT
BEGIN:STANDARD
TZOFFSETFROM:-0400
TZOFFSETTO:-0500
TZNAME:EST
DTSTART:20251102T060000
END:STANDARD
BEGIN:DAYLIGHT
TZOFFSETFROM:-0500
TZOFFSETTO:-0400
TZNAME:EDT
DTSTART:20260308T070000
END:DAYLIGHT
BEGIN:STANDARD
TZOFFSETFROM:-0400
TZOFFSETTO:-0500
TZNAME:EST
DTSTART:20261101T060000
END:STANDARD
END:VTIMEZONE
BEGIN:VEVENT
DTSTART;TZID=America/New_York:20250823T080000
DTEND;TZID=America/New_York:20250823T120000
DTSTAMP:20260421T041300
CREATED:20250328T145017Z
LAST-MODIFIED:20250328T145017Z
UID:3749-1755936000-1755950400@visitlakeoconee.com
SUMMARY:Lake Oconee Farmers Market
DESCRIPTION:Bring your appetite as you browse Lake Oconee Farmers Market’s diverse vendor selections of fresh produce\, artisanal baked goods\, organic popsicles\, jams\, and farm raisedmeat and eggs – PLUS! a variety of hand-crafted wares and wears\, fine art\, collectibles\, and more. Don’t miss the chance to support our community and discover one-of-a-kind finds! Formerly the Harmony Park Farmers Market\, LOFM has supported Lake Country’s farmers\, bakers\, and makers for over 15 years. We are proud to help provide local\, fresh food to the community.
URL:https://visitlakeoconee.com/event/lake-oconee-farmers-market/2025-08-23/
LOCATION:Harmony Crossing\, 119 Harmony Crossing\, Eatonton\, GA\, 31024\, United States
CATEGORIES:Festival
END:VEVENT
BEGIN:VEVENT
DTSTART;TZID=America/New_York:20250823T160000
DTEND;TZID=America/New_York:20250823T190000
DTSTAMP:20260421T041300
CREATED:20250718T140907Z
LAST-MODIFIED:20250718T140907Z
UID:3888-1755964800-1755975600@visitlakeoconee.com
SUMMARY:Wine Tasting at The Palms on Main St in Downtown Greensboro
DESCRIPTION:Mix and Mingle as you explore our expert-guided tastings\, guaranteed to deepen your appreciation for wine. The cost is just $45 per person and includes six sample wines and a cheese tray. Limited spaces available. Must be 21+ to attend. Must present ID at check-in.
URL:https://visitlakeoconee.com/event/wine-tasting-at-the-palms-on-main-st-in-downtown-greensboro/
LOCATION:The Palms on Main Street\, 104 S Main Street\, Greensboro\, GA\, 30642\, United States
CATEGORIES:Entertainment
END:VEVENT
BEGIN:VEVENT
DTSTART;TZID=America/New_York:20250823T170000
DTEND;TZID=America/New_York:20250823T210000
DTSTAMP:20260421T041300
CREATED:20250728T175108Z
LAST-MODIFIED:20250728T175108Z
UID:3896-1755968400-1755982800@visitlakeoconee.com
SUMMARY:Nick Ridgely Live Music at The Burch x Boathouse
DESCRIPTION:Head over to The Burch x Boathouse for live music by Nick Ridgely on Saturday\, August 23 from 5PM to 9PM!
URL:https://visitlakeoconee.com/event/nick-ridgely-live-music-at-the-burch-x-boathouse/
LOCATION:The Boathouse at Harbor Club\, 3991 Walker Church Road\, Greensboro\, GA\, 30642\, United States
CATEGORIES:Entertainment,Music
END:VEVENT
BEGIN:VEVENT
DTSTART;TZID=America/New_York:20250823T190000
DTEND;TZID=America/New_York:20250823T220000
DTSTAMP:20260421T041300
CREATED:20250806T144113Z
LAST-MODIFIED:20250806T144113Z
UID:3923-1755975600-1755986400@visitlakeoconee.com
SUMMARY:Departure Feel the Journey – Live at The Plaza!
DESCRIPTION:Get ready to relive the glory days of rock as DEPARTURE\, the most respected Journey tribute band in the nation\, takes the stage at The Plaza Arts Center on Friday\, August 23 at 7 p.m. This\nhigh-energy\, note-for-note tribute to one of the greatest bands of all time will have the audience singing\, swaying\, and shouting “Don’t Stop Believin’!” Celebrating over 17 years together\, DEPARTURE has earned a nationwide reputation for their incredible musicianship\, electrifying stage presence\, and faithful recreation of Journey’s iconic sound—focusing on the legendary hits from the 1970s and 1980s\, when Journey dominated the airwaves and defined a generation. From powerful ballads like Faithfully and Open Arms to rock anthems like Any Way You Want It\,\nWheel in the Sky\, and Separate Ways\, DEPARTURE brings every song to life with the passion and precision that made Journey a household name. This is more than a concert\, it’s a time machine. Whether you grew up on these songs or just discovered them\, DEPARTURE delivers a nostalgic\, electrifying experience you won’t forget.\nTickets are on sale now at plazacenter.org. Don’t wait\, this show is almost sold out!
URL:https://visitlakeoconee.com/event/departure-feel-the-journey-live-at-the-plaza/
LOCATION:The Plaza Arts Center\, 305 N Madison Ave\, Eatonton\, GA\, 31024\, United States
CATEGORIES:Entertainment,Music
END:VEVENT
END:VCALENDAR