BEGIN:VCALENDAR
VERSION:2.0
PRODID:-//Visit Lake Oconee - ECPv6.15.16//NONSGML v1.0//EN
CALSCALE:GREGORIAN
METHOD:PUBLISH
X-WR-CALNAME:Visit Lake Oconee
X-ORIGINAL-URL:https://visitlakeoconee.com
X-WR-CALDESC:Events for Visit Lake Oconee
REFRESH-INTERVAL;VALUE=DURATION:PT1H
X-Robots-Tag:noindex
X-PUBLISHED-TTL:PT1H
BEGIN:VTIMEZONE
TZID:America/New_York
BEGIN:DAYLIGHT
TZOFFSETFROM:-0500
TZOFFSETTO:-0400
TZNAME:EDT
DTSTART:20220313T070000
END:DAYLIGHT
BEGIN:STANDARD
TZOFFSETFROM:-0400
TZOFFSETTO:-0500
TZNAME:EST
DTSTART:20221106T060000
END:STANDARD
BEGIN:DAYLIGHT
TZOFFSETFROM:-0500
TZOFFSETTO:-0400
TZNAME:EDT
DTSTART:20230312T070000
END:DAYLIGHT
BEGIN:STANDARD
TZOFFSETFROM:-0400
TZOFFSETTO:-0500
TZNAME:EST
DTSTART:20231105T060000
END:STANDARD
BEGIN:DAYLIGHT
TZOFFSETFROM:-0500
TZOFFSETTO:-0400
TZNAME:EDT
DTSTART:20240310T070000
END:DAYLIGHT
BEGIN:STANDARD
TZOFFSETFROM:-0400
TZOFFSETTO:-0500
TZNAME:EST
DTSTART:20241103T060000
END:STANDARD
END:VTIMEZONE
BEGIN:VEVENT
DTSTART;TZID=America/New_York:20230902T200000
DTEND;TZID=America/New_York:20230902T230000
DTSTAMP:20260421T041323
CREATED:20230823T143432Z
LAST-MODIFIED:20230823T143432Z
UID:3043-1693684800-1693695600@visitlakeoconee.com
SUMMARY:Slippery When Wet - The Ultimate Bon Jovi Tribute
DESCRIPTION:Slippery When Wet – The Ultimate Bon Jovi Tribute – is returning to Oconee Brewing Company!\nThe band performs exact live arrangements from Bon Jovi’s 2000’s Crush tour \, 2002’s Bounce tour \, 2005’s Have a Nice Day tour\, 2008’s Lost Highway tour\, and 2010’s The Circle tour.\nThis is an 18 and older concert in our Event Center. Beer\, wine\, and hard seltzer are not included in the price of a ticket.
URL:https://visitlakeoconee.com/event/slippery-when-wet-the-ultimate-bon-jovi-tribute-2/
LOCATION:Oconee Brewing Company\, 202 N West St\, Greensboro\, GA\, 30642\, United States
CATEGORIES:Entertainment,Music
END:VEVENT
END:VCALENDAR